BEGIN:VCALENDAR
VERSION:2.0
PRODID:-//Last Acts of Love - ECPv6.15.20//NONSGML v1.0//EN
CALSCALE:GREGORIAN
METHOD:PUBLISH
X-ORIGINAL-URL:https://lastactsoflove.com
X-WR-CALDESC:Events for Last Acts of Love
REFRESH-INTERVAL;VALUE=DURATION:PT1H
X-Robots-Tag:noindex
X-PUBLISHED-TTL:PT1H
BEGIN:VTIMEZONE
TZID:America/Los_Angeles
BEGIN:DAYLIGHT
TZOFFSETFROM:-0800
TZOFFSETTO:-0700
TZNAME:PDT
DTSTART:20250309T100000
END:DAYLIGHT
BEGIN:STANDARD
TZOFFSETFROM:-0700
TZOFFSETTO:-0800
TZNAME:PST
DTSTART:20251102T090000
END:STANDARD
BEGIN:DAYLIGHT
TZOFFSETFROM:-0800
TZOFFSETTO:-0700
TZNAME:PDT
DTSTART:20260308T100000
END:DAYLIGHT
BEGIN:STANDARD
TZOFFSETFROM:-0700
TZOFFSETTO:-0800
TZNAME:PST
DTSTART:20261101T090000
END:STANDARD
BEGIN:DAYLIGHT
TZOFFSETFROM:-0800
TZOFFSETTO:-0700
TZNAME:PDT
DTSTART:20270314T100000
END:DAYLIGHT
BEGIN:STANDARD
TZOFFSETFROM:-0700
TZOFFSETTO:-0800
TZNAME:PST
DTSTART:20271107T090000
END:STANDARD
END:VTIMEZONE
BEGIN:VEVENT
DTSTART;TZID=America/Los_Angeles:20260311T113000
DTEND;TZID=America/Los_Angeles:20260311T130000
DTSTAMP:20260424T150317
CREATED:20260309T214833Z
LAST-MODIFIED:20260309T214833Z
UID:1689-1773228600-1773234000@lastactsoflove.com
SUMMARY:March Terminal Talk New Time
DESCRIPTION:Do you have a life-limiting diagnosis? Virtual Terminal Talk is a FREE group-led discussion inviting people living with a life-limiting diagnosis to join others in exploring the realities of dying and death. This supportive space encourages participants to share thoughts on the physical\, emotional\, and spiritual aspects of dying. While grief may naturally emerge\, Terminal Talk does not serve as a grief support group or cater to caregivers\, loved ones\, or the general public. \nAll diagnoses are welcome! Whether you’re living with ALS\, cancer\, heart failure\, or something else\, we want you to join our group. We are a friendly place and understand the loneliness that comes with trying to make sense of our fate. \nThe History of Terminal Talk\nTerminal Talk’s host\, Mel McClave\, was invited by Roseana Spangler-Sims to host “Terminal Talk: An Open Discussion on Dying for a Select Few.” Roseana yearned for a place where people living with an incurable diagnosis could come together to talk about their experience. In May 2025\, Mel hosted the first “Terminal Talk” in person at the Vista Senior Center. \nAlthough people wanted a virtual option\, Terminal Talk remained in-person until Roseana’s death in August 2025. Consequently\, Mel pivoted the in-person meeting into a virtual meeting on the same date and time. Mel learned how to host a group like Terminal Talk through her volunteer work as a Death Cafe host. \nThe Future\nSeven people joined the first meeting of the Virtual Terminal Talk. Considering the nature of this discussion group\, it’s important to invite all who qualify to participate. The bond we form transcends the limits of geography and time. \nIn 2026\, we expanded Terminal Talk to two meetings per month. We are blessed to spend 90 minutes together twice a month. \nWe need your support to help Terminal Talk continue to grow. Please share this free resource with anyone who qualifies or knows someone who qualifies. This is important as the founding members of the group succumb to their fate and are only present in spirit. \nJoin “Terminal Talk” – a free\, confidential group for those living with a life-limiting diagnosis to openly discuss the physical\, emotional\, and spiritual aspects of dying. \n\n\nExclusively for patients – not caregivers\, loved ones\, or the general public. \nTerminal Talk in 2026\nWe added a second “Terminal Talk” date and a new time! The original “Terminal Talk” date continues to be the second Wednesday of every month. We moved the time from 10:30 AM- Noon (Pacific Time) to 11:30 AM- 1 PM (Pacific Time) to accommodate more participants. \nThe second day for “Terminal Talk” will vary monthly depending on availability. Be sure\, I will send out a Zoom link notification with the month’s dates to all who qualify.
URL:https://lastactsoflove.com/event/march-terminal-talk-new-time/
LOCATION:Virtual Terminal Talk\, CA\, 92024\, United States
ATTACH;FMTTYPE=image/png:https://lastactsoflove.com/wp-content/uploads/2026/03/2026-Terminal-Talk-No-Dates-Flyer-.png
END:VEVENT
BEGIN:VEVENT
DTSTART;TZID=America/Los_Angeles:20260312T100000
DTEND;TZID=America/Los_Angeles:20260314T170000
DTSTAMP:20260424T150317
CREATED:20260309T223037Z
LAST-MODIFIED:20260316T174853Z
UID:1693-1773309600-1773507600@lastactsoflove.com
SUMMARY:CANP 48th Educational Conference in San Diego
DESCRIPTION:What is the CANP?\nFounded in 1977\, the California Association of Nurse Practitioners (CANP) is a state-based organization that brings together more than 40\,000 Nurse Practitioners (NPs) who work in California. The CANP is the only association dedicated to advocating for NPs as they expand their roles in modern healthcare. \nWhat is a Nurse Practitioner (NP)?\nNPs are Registered Nurses (RNs) with additional training and education who fill gaps in California’s healthcare system\, where Medical Doctors (MDs) need extra support. You can find NPs in rural and urban settings. They are qualified to diagnose disease\, prescribe medications\, and sign legally-binding documents such as a POLST. \nNPs and End-of-Life Planning\nYour relationship with your NP includes planning for end-of-life situations. Find me volunteering at the Compassion & Choices booth on Thursday and Friday\, March 12-13\, 2026. I will be handing out information on Advance HealthCare Directives (AHD) and dementia addenda. \nAs a board member of the San Diego Coalition for Compassionate Care (SDCCC)\, I will have decision aids and POLSTS to share with NPs attending the CANP 48th Annual Education Conference. \n 
URL:https://lastactsoflove.com/event/canp-48th-educational-conference-in-san-diego/
LOCATION:Manchester Grand Hyatt\, 1 Market Pl\, San Diego\, CA\, 92101\, United States
ATTACH;FMTTYPE=image/png:https://lastactsoflove.com/wp-content/uploads/2026/03/2026-CANP-CC-Flyer-1.png
END:VEVENT
BEGIN:VEVENT
DTSTART;TZID=America/Los_Angeles:20260323T113000
DTEND;TZID=America/Los_Angeles:20260323T130000
DTSTAMP:20260424T150317
CREATED:20260309T232721Z
LAST-MODIFIED:20260309T232721Z
UID:1698-1774265400-1774270800@lastactsoflove.com
SUMMARY:Virtual Terminal Talk
DESCRIPTION:Do you have a life-limiting diagnosis? Virtual Terminal Talk is a FREE group-led discussion inviting people living with a life-limiting diagnosis to join others in exploring the realities of dying and death. This supportive space encourages participants to share thoughts on the physical\, emotional\, and spiritual aspects of dying. While grief may naturally emerge\, Terminal Talk does not serve as a grief support group or cater to caregivers\, loved ones\, or the general public. \nAll diagnoses are welcome! Whether you’re living with ALS\, cancer\, heart failure\, or something else\, we want you to join our group. We are a friendly place and understand the loneliness that comes with trying to make sense of our fate. \nThe History of Terminal Talk\nTerminal Talk’s host\, Mel McClave\, was invited by Roseana Spangler-Sims to host “Terminal Talk: An Open Discussion on Dying for a Select Few.” Roseana yearned for a place where people living with an incurable diagnosis could come together to talk about their experience. In May 2025\, Mel hosted the first “Terminal Talk” in person at the Vista Senior Center. \nAlthough people wanted a virtual option\, Terminal Talk remained in-person until Roseana’s death in August 2025. Consequently\, Mel pivoted the in-person meeting into a virtual meeting on the same date and time. Mel learned how to host a group like Terminal Talk through her volunteer work as a Death Cafe host. \nThe Future\nSeven people joined the first meeting of the Virtual Terminal Talk. Considering the nature of this discussion group\, it’s important to invite all who qualify to participate. The bond we form transcends the limits of geography and time. \nIn 2026\, we expanded Terminal Talk to two meetings per month. We are blessed to spend 90 minutes together twice a month. \nWe need your support to help Terminal Talk continue to grow. Please share this free resource with anyone who qualifies or knows someone who qualifies. This is important as the founding members of the group succumb to their fate and are only present in spirit. \nJoin “Terminal Talk” – a free\, confidential group for those living with a life-limiting diagnosis to openly discuss the physical\, emotional\, and spiritual aspects of dying. \n\n\nExclusively for patients – not caregivers\, loved ones\, or the general public. \nTerminal Talk in 2026\nWe added a second “Terminal Talk” date and a new time! The original “Terminal Talk” date continues to be the second Wednesday of every month. We moved the time from 10:30 AM- Noon (Pacific Time) to 11:30 AM- 1 PM (Pacific Time) to accommodate more participants. \nThe second day for “Terminal Talk” will vary monthly depending on availability. Be sure\, I will send out a Zoom link notification with the month’s dates to all who qualify.
URL:https://lastactsoflove.com/event/virtual-terminal-talk-3/
LOCATION:Virtual Terminal Talk\, CA\, 92024\, United States
ATTACH;FMTTYPE=image/png:https://lastactsoflove.com/wp-content/uploads/2026/03/2026-Terminal-Talk-No-Dates-Flyer-.png
END:VEVENT
BEGIN:VEVENT
DTSTART;TZID=America/Los_Angeles:20260325T183000
DTEND;TZID=America/Los_Angeles:20260325T200000
DTSTAMP:20260424T150317
CREATED:20260309T233310Z
LAST-MODIFIED:20260309T233310Z
UID:1700-1774463400-1774468800@lastactsoflove.com
SUMMARY:San Diego Virtual Death Cafe
DESCRIPTION:The San Diego Virtual Death Cafe is a safe place to share your interest in the subject of dying and death. Are you looking for a safe place to share your thoughts\, ask questions\, and hear what others say? At this Death Cafe\, we welcome all opinions and topics\, provided they follow a few rules that keep the discussions safe and accessible. \nThe History of Death Cafes\nDeath Cafes are an international phenomenon. Jon Underwood founded Death Cafes in 2011 in London\, England.  Jon’s vision was to create a space where people could talk about death over tea and cake. The cafes welcome all perspectives. Jon knew that creating a space where people knew there was no agenda\, no speakers\, nor promotions created an environment that nurtured organic conversation. \nAfter Jon died from cancer in 2017\, his family and friends continued Death Cafe as a tribute to his life’s work. To this day\, Death Cafes remain free to attend and free from pre-planned discussion.  All Death Cafe hosts agree to host as volunteers and to follow the guidelines set by Jon. \nThe History of The San Diego Virtual Death Cafe\nIn March 2020\, the state of California declared a state of emergency due to a novel human coronavirus that was highly infectious and deadly to vulnerable populations. People were required to avoid congregating in person. Schools\, churches\, libraries\, and cafes were closed. \nI received an email from Death Cafe hosts\, Mits Tomita and Frank Stefano\, asking if I wanted to be part of an online Death Cafe. I accepted the invitation\, and we hosted our first San Diego Virtual Death Cafe in April of 2020. At first\, it was difficult to navigate the technology required to host successfully. We had many hiccups and a “Zoom Bomb” or two that helped us learn how to be better hosts. \nEventually\, Mits’ schedule could no longer accommodate the time and day that worked for our attendees. Frank and I continued to co-host on the fourth Wednesday of every month. In the end\, Frank decided to hand me the reins\, and I continue hosting to this day.
URL:https://lastactsoflove.com/event/san-diego-virtual-death-cafe-3/
LOCATION:San Diego Virtual Death Cafe\, CA\, 92024\, United States
ATTACH;FMTTYPE=image/png:https://lastactsoflove.com/wp-content/uploads/2026/02/2026-San-Diego-Virtual-Death-Cafe.png
END:VEVENT
END:VCALENDAR