BEGIN:VCALENDAR
VERSION:2.0
PRODID:-//Last Acts of Love - ECPv6.15.20//NONSGML v1.0//EN
CALSCALE:GREGORIAN
METHOD:PUBLISH
X-WR-CALNAME:Last Acts of Love
X-ORIGINAL-URL:https://lastactsoflove.com
X-WR-CALDESC:Events for Last Acts of Love
REFRESH-INTERVAL;VALUE=DURATION:PT1H
X-Robots-Tag:noindex
X-PUBLISHED-TTL:PT1H
BEGIN:VTIMEZONE
TZID:America/Los_Angeles
BEGIN:DAYLIGHT
TZOFFSETFROM:-0800
TZOFFSETTO:-0700
TZNAME:PDT
DTSTART:20250309T100000
END:DAYLIGHT
BEGIN:STANDARD
TZOFFSETFROM:-0700
TZOFFSETTO:-0800
TZNAME:PST
DTSTART:20251102T090000
END:STANDARD
BEGIN:DAYLIGHT
TZOFFSETFROM:-0800
TZOFFSETTO:-0700
TZNAME:PDT
DTSTART:20260308T100000
END:DAYLIGHT
BEGIN:STANDARD
TZOFFSETFROM:-0700
TZOFFSETTO:-0800
TZNAME:PST
DTSTART:20261101T090000
END:STANDARD
BEGIN:DAYLIGHT
TZOFFSETFROM:-0800
TZOFFSETTO:-0700
TZNAME:PDT
DTSTART:20270314T100000
END:DAYLIGHT
BEGIN:STANDARD
TZOFFSETFROM:-0700
TZOFFSETTO:-0800
TZNAME:PST
DTSTART:20271107T090000
END:STANDARD
END:VTIMEZONE
BEGIN:VEVENT
DTSTART;TZID=America/Los_Angeles:20260407T163000
DTEND;TZID=America/Los_Angeles:20260407T180000
DTSTAMP:20260424T145818
CREATED:20260402T225402Z
LAST-MODIFIED:20260402T225402Z
UID:1819-1775579400-1775584800@lastactsoflove.com
SUMMARY:O.C. Virtual Death Cafe
DESCRIPTION:The O.C. Virtual Death Cafe is the place to be to immerse yourself in a lively discussion around dying and death. Anyone who is curious about dying and death is welcome. \nAre you looking for a safe place to share your thoughts\, ask questions\, and hear what others say? At our long-running  O.C. Virtual Death Cafe\, we welcome all opinions and topics\, provided the guidelines that keep the discussions safe and accessible are respected. Please RSVP to: melissa@lastactsoflove.com for the Zoom link or more information. \nThe History of the OC Virtual Death Cafe\nSouthern California resident and end-of-life doula Linda Barnard co-hosted the first Orange County Death Cafe in October 2021 with veteran San Diego Death Cafe host\, Dr. Mitsuo “Mits” Tomita. What started as a mid-COVID monthly meetup has continued to flourish as a virtual monthly discussion. Linda continued to host the Orange County Death Cafe after Mits was unavailable to co-host monthly. Linda decided to step down as host in September 2024. \nIn October 2024\, Linda asked San Diego Virtual Death Cafe host Melissa ‘Mel’ McClave to take over hosting duties of the Orange County Death Cafe. Mel made the Orange County Death Cafe a permanent virtual meeting and changed the name to OC Virtual Death Cafe. \nDeathwork in Orange County California\nFor over 100 years\, the residents of Orange County\, California have thoughtfully cared for their dead. Orange County is home to about one million residents\, all of whom will die. The ethnic diversity of the county requires a thoughtful approach to cultural rituals and modern legacy options. \nLeisure World in Seal Beach and Laguna Hills are Orange County’s premiere retirement communties. Residents of Lesiure World buy into their community knowing that it will be their home at the end of life. Residents are serviced nearby mortuaries and cemeteries. \nIn May 2024\, Barbara McMurray founded the Orange County Deathworkers Alliance to bring together traditional and new-age practicioners of end-of-life care providers. The alliance currently includes caregiver services\, end-of-life doulas\, physicians\, memorial artists\, and authors who write extensively on end of life topics. \n 
URL:https://lastactsoflove.com/event/o-c-virtual-death-cafe-2/
LOCATION:Orange County Virtual Death Cafe\, United States
ATTACH;FMTTYPE=image/png:https://lastactsoflove.com/wp-content/uploads/2026/02/2026-OC-Virtual-Death-Cafe-Flyer.png
END:VEVENT
END:VCALENDAR