BEGIN:VCALENDAR
VERSION:2.0
PRODID:-//Last Acts of Love - ECPv6.15.20//NONSGML v1.0//EN
CALSCALE:GREGORIAN
METHOD:PUBLISH
X-WR-CALNAME:Last Acts of Love
X-ORIGINAL-URL:https://lastactsoflove.com
X-WR-CALDESC:Events for Last Acts of Love
REFRESH-INTERVAL;VALUE=DURATION:PT1H
X-Robots-Tag:noindex
X-PUBLISHED-TTL:PT1H
BEGIN:VTIMEZONE
TZID:America/Los_Angeles
BEGIN:DAYLIGHT
TZOFFSETFROM:-0800
TZOFFSETTO:-0700
TZNAME:PDT
DTSTART:20250309T100000
END:DAYLIGHT
BEGIN:STANDARD
TZOFFSETFROM:-0700
TZOFFSETTO:-0800
TZNAME:PST
DTSTART:20251102T090000
END:STANDARD
BEGIN:DAYLIGHT
TZOFFSETFROM:-0800
TZOFFSETTO:-0700
TZNAME:PDT
DTSTART:20260308T100000
END:DAYLIGHT
BEGIN:STANDARD
TZOFFSETFROM:-0700
TZOFFSETTO:-0800
TZNAME:PST
DTSTART:20261101T090000
END:STANDARD
BEGIN:DAYLIGHT
TZOFFSETFROM:-0800
TZOFFSETTO:-0700
TZNAME:PDT
DTSTART:20270314T100000
END:DAYLIGHT
BEGIN:STANDARD
TZOFFSETFROM:-0700
TZOFFSETTO:-0800
TZNAME:PST
DTSTART:20271107T090000
END:STANDARD
END:VTIMEZONE
BEGIN:VEVENT
DTSTART;TZID=America/Los_Angeles:20260311T113000
DTEND;TZID=America/Los_Angeles:20260311T130000
DTSTAMP:20260424T164105
CREATED:20260309T214833Z
LAST-MODIFIED:20260309T214833Z
UID:1689-1773228600-1773234000@lastactsoflove.com
SUMMARY:March Terminal Talk New Time
DESCRIPTION:Do you have a life-limiting diagnosis? Virtual Terminal Talk is a FREE group-led discussion inviting people living with a life-limiting diagnosis to join others in exploring the realities of dying and death. This supportive space encourages participants to share thoughts on the physical\, emotional\, and spiritual aspects of dying. While grief may naturally emerge\, Terminal Talk does not serve as a grief support group or cater to caregivers\, loved ones\, or the general public. \nAll diagnoses are welcome! Whether you’re living with ALS\, cancer\, heart failure\, or something else\, we want you to join our group. We are a friendly place and understand the loneliness that comes with trying to make sense of our fate. \nThe History of Terminal Talk\nTerminal Talk’s host\, Mel McClave\, was invited by Roseana Spangler-Sims to host “Terminal Talk: An Open Discussion on Dying for a Select Few.” Roseana yearned for a place where people living with an incurable diagnosis could come together to talk about their experience. In May 2025\, Mel hosted the first “Terminal Talk” in person at the Vista Senior Center. \nAlthough people wanted a virtual option\, Terminal Talk remained in-person until Roseana’s death in August 2025. Consequently\, Mel pivoted the in-person meeting into a virtual meeting on the same date and time. Mel learned how to host a group like Terminal Talk through her volunteer work as a Death Cafe host. \nThe Future\nSeven people joined the first meeting of the Virtual Terminal Talk. Considering the nature of this discussion group\, it’s important to invite all who qualify to participate. The bond we form transcends the limits of geography and time. \nIn 2026\, we expanded Terminal Talk to two meetings per month. We are blessed to spend 90 minutes together twice a month. \nWe need your support to help Terminal Talk continue to grow. Please share this free resource with anyone who qualifies or knows someone who qualifies. This is important as the founding members of the group succumb to their fate and are only present in spirit. \nJoin “Terminal Talk” – a free\, confidential group for those living with a life-limiting diagnosis to openly discuss the physical\, emotional\, and spiritual aspects of dying. \n\n\nExclusively for patients – not caregivers\, loved ones\, or the general public. \nTerminal Talk in 2026\nWe added a second “Terminal Talk” date and a new time! The original “Terminal Talk” date continues to be the second Wednesday of every month. We moved the time from 10:30 AM- Noon (Pacific Time) to 11:30 AM- 1 PM (Pacific Time) to accommodate more participants. \nThe second day for “Terminal Talk” will vary monthly depending on availability. Be sure\, I will send out a Zoom link notification with the month’s dates to all who qualify.
URL:https://lastactsoflove.com/event/march-terminal-talk-new-time/
LOCATION:Virtual Terminal Talk\, CA\, 92024\, United States
ATTACH;FMTTYPE=image/png:https://lastactsoflove.com/wp-content/uploads/2026/03/2026-Terminal-Talk-No-Dates-Flyer-.png
END:VEVENT
END:VCALENDAR