BEGIN:VCALENDAR
VERSION:2.0
PRODID:-//Last Acts of Love - ECPv6.15.20//NONSGML v1.0//EN
CALSCALE:GREGORIAN
METHOD:PUBLISH
X-WR-CALNAME:Last Acts of Love
X-ORIGINAL-URL:https://lastactsoflove.com
X-WR-CALDESC:Events for Last Acts of Love
REFRESH-INTERVAL;VALUE=DURATION:PT1H
X-Robots-Tag:noindex
X-PUBLISHED-TTL:PT1H
BEGIN:VTIMEZONE
TZID:America/Los_Angeles
BEGIN:DAYLIGHT
TZOFFSETFROM:-0800
TZOFFSETTO:-0700
TZNAME:PDT
DTSTART:20250309T100000
END:DAYLIGHT
BEGIN:STANDARD
TZOFFSETFROM:-0700
TZOFFSETTO:-0800
TZNAME:PST
DTSTART:20251102T090000
END:STANDARD
BEGIN:DAYLIGHT
TZOFFSETFROM:-0800
TZOFFSETTO:-0700
TZNAME:PDT
DTSTART:20260308T100000
END:DAYLIGHT
BEGIN:STANDARD
TZOFFSETFROM:-0700
TZOFFSETTO:-0800
TZNAME:PST
DTSTART:20261101T090000
END:STANDARD
BEGIN:DAYLIGHT
TZOFFSETFROM:-0800
TZOFFSETTO:-0700
TZNAME:PDT
DTSTART:20270314T100000
END:DAYLIGHT
BEGIN:STANDARD
TZOFFSETFROM:-0700
TZOFFSETTO:-0800
TZNAME:PST
DTSTART:20271107T090000
END:STANDARD
END:VTIMEZONE
BEGIN:VEVENT
DTSTART;TZID=America/Los_Angeles:20260225T183000
DTEND;TZID=America/Los_Angeles:20260226T200000
DTSTAMP:20260424T164736
CREATED:20260202T221204Z
LAST-MODIFIED:20260202T221204Z
UID:1656-1772044200-1772136000@lastactsoflove.com
SUMMARY:San Diego Virtual Death Cafe
DESCRIPTION:The San Diego Virtual Death Cafe is a safe place to share your interest in the subject of dying and death. Are you looking for a safe place to share your thoughts\, ask questions\, and hear what others say? At this Death Cafe\, we welcome all opinions and topics\, provided they follow a few rules that keep the discussions safe and accessible. \nThe History of Death Cafes\nDeath Cafes are an international phenomenon. Jon Underwood founded Death Cafes in 2011 in London\, England.  Jon’s vision was to create a space where people could talk about death over tea and cake. The cafes welcome all perspectives. Jon knew that creating a space where people knew there was no agenda\, no speakers\, nor promotions created an environment that nurtured organic conversation. \nAfter Jon died from cancer in 2017\, his family and friends continued Death Cafe as a tribute to his life’s work. To this day\, Death Cafes remain free to attend and free from pre-planned discussion.  All Death Cafe hosts agree to host as volunteers and to follow the guidelines set by Jon. \nThe History of The San Diego Virtual Death Cafe\nIn March 2020\, the state of California declared a state of emergency due to a novel human coronavirus that was highly infectious and deadly to vulnerable populations. People were required to avoid congregating in person. Schools\, churches\, libraries\, and cafes were closed. \nI received an email from Death Cafe hosts\, Mits Tomita and Frank Stefano\, asking if I wanted to be part of an online Death Cafe. I accepted the invitation\, and we hosted our first San Diego Virtual Death Cafe in April of 2020. At first\, it was difficult to navigate the technology required to host successfully. We had many hiccups and a “Zoom Bomb” or two that helped us learn how to be better hosts. \nEventually\, Mits’ schedule could no longer accommodate the time and day that worked for our attendees. Frank and I continued to co-host on the fourth Wednesday of every month. In the end\, Frank decided to hand me the reins\, and I continue hosting to this day.
URL:https://lastactsoflove.com/event/san-diego-virtual-death-cafe-2/
LOCATION:San Diego Virtual Death Cafe\, CA\, 92024\, United States
ATTACH;FMTTYPE=image/png:https://lastactsoflove.com/wp-content/uploads/2026/02/2026-San-Diego-Virtual-Death-Cafe.png
END:VEVENT
END:VCALENDAR