BEGIN:VCALENDAR
VERSION:2.0
PRODID:-//Last Acts of Love - ECPv6.15.20//NONSGML v1.0//EN
CALSCALE:GREGORIAN
METHOD:PUBLISH
X-WR-CALNAME:Last Acts of Love
X-ORIGINAL-URL:https://lastactsoflove.com
X-WR-CALDESC:Events for Last Acts of Love
REFRESH-INTERVAL;VALUE=DURATION:PT1H
X-Robots-Tag:noindex
X-PUBLISHED-TTL:PT1H
BEGIN:VTIMEZONE
TZID:America/Los_Angeles
BEGIN:DAYLIGHT
TZOFFSETFROM:-0800
TZOFFSETTO:-0700
TZNAME:PDT
DTSTART:20250309T100000
END:DAYLIGHT
BEGIN:STANDARD
TZOFFSETFROM:-0700
TZOFFSETTO:-0800
TZNAME:PST
DTSTART:20251102T090000
END:STANDARD
BEGIN:DAYLIGHT
TZOFFSETFROM:-0800
TZOFFSETTO:-0700
TZNAME:PDT
DTSTART:20260308T100000
END:DAYLIGHT
BEGIN:STANDARD
TZOFFSETFROM:-0700
TZOFFSETTO:-0800
TZNAME:PST
DTSTART:20261101T090000
END:STANDARD
BEGIN:DAYLIGHT
TZOFFSETFROM:-0800
TZOFFSETTO:-0700
TZNAME:PDT
DTSTART:20270314T100000
END:DAYLIGHT
BEGIN:STANDARD
TZOFFSETFROM:-0700
TZOFFSETTO:-0800
TZNAME:PST
DTSTART:20271107T090000
END:STANDARD
END:VTIMEZONE
BEGIN:VEVENT
DTSTART;TZID=America/Los_Angeles:20260218T100000
DTEND;TZID=America/Los_Angeles:20260218T113000
DTSTAMP:20260424T182056
CREATED:20260201T214222Z
LAST-MODIFIED:20260201T214457Z
UID:1647-1771408800-1771414200@lastactsoflove.com
SUMMARY:"What Is A Death Doula?" Lecture and Discussion
DESCRIPTION:Join me\, Melissa McClave\, on Wednesday\, February 18\, at the San Diego Oasis Rancho Bernardo campus for an educational lecture and discussion\, “What Is A Death Doula?” about what Death Doulas are and how they fit into the modern end-of-life care.  This 90-minute class delves into the history of end-of-life doula support\, how dying and death practices have shifted in the U.S.A. since the 19th century\, and what our role is in today’s death care. \nThe format of the lecture is a slide show that begins with defining the role of a death doula. Next\, I will briefly cover the history of doula support in caring for the dying and the rituals surrounding burials and mourning. Following this\, I will briefly cover the changes in death care since the Civil War and the advent of modern medicine. Next\, I will discuss what your current end-of-life options are and how to access resources. Finally\, my lecture will end with how I practice as a Death Doula from educational outreach through to legacy work. \nThe class will end with a question-and-answer discussion that is open to any of the topics covered or other thoughts that may come up. Participants will leave the lecture with an extended knowledge of modern death care\, as well as workbooks and handouts of local and national resources. \n  \n 
URL:https://lastactsoflove.com/event/what-is-a-death-doula-lecture-and-discussion/
LOCATION:San Diego Oasis Rancho Bernardo\, 17170 Bernardo Center Dr\, San Diego\, 92128\, United States
ATTACH;FMTTYPE=image/png:https://lastactsoflove.com/wp-content/uploads/2026/01/2026-February-Oasis-Flyer-.png
ORGANIZER;CN="San Diego Oasis Rancho Bernardo":MAILTO:info@sandiegooasis.org
END:VEVENT
END:VCALENDAR